BEGIN:VCALENDAR
VERSION:2.0
PRODID:-//Heart Knocks Global - ECPv6.15.20//NONSGML v1.0//EN
CALSCALE:GREGORIAN
METHOD:PUBLISH
X-WR-CALNAME:Heart Knocks Global
X-ORIGINAL-URL:https://heartknocksglobal.com
X-WR-CALDESC:Events for Heart Knocks Global
REFRESH-INTERVAL;VALUE=DURATION:PT1H
X-Robots-Tag:noindex
X-PUBLISHED-TTL:PT1H
BEGIN:VTIMEZONE
TZID:Asia/Kuala_Lumpur
BEGIN:STANDARD
TZOFFSETFROM:+0800
TZOFFSETTO:+0800
TZNAME:+08
DTSTART:20250101T000000
END:STANDARD
END:VTIMEZONE
BEGIN:VEVENT
DTSTART;VALUE=DATE:20261113
DTEND;VALUE=DATE:20261116
DTSTAMP:20260421T232522
CREATED:20260421T084557Z
LAST-MODIFIED:20260421T084557Z
UID:10000229-1794528000-1794787199@heartknocksglobal.com
SUMMARY:LP-22: Legacy Programme 3rd Weekend
DESCRIPTION:
URL:https://heartknocksglobal.com/event/lp-22-3/
CATEGORIES:Legacy Programme
ATTACH;FMTTYPE=image/jpeg:https://heartknocksglobal.com/wp-content/uploads/2025/02/prg-timg-LP.jpg
END:VEVENT
BEGIN:VEVENT
DTSTART;VALUE=DATE:20261204
DTEND;VALUE=DATE:20261207
DTSTAMP:20260421T232522
CREATED:20260421T084712Z
LAST-MODIFIED:20260421T084712Z
UID:10000230-1796342400-1796601599@heartknocksglobal.com
SUMMARY:LP-23: Legacy Programme 3rd Weekend
DESCRIPTION:
URL:https://heartknocksglobal.com/event/lp-23-3/
CATEGORIES:Legacy Programme
ATTACH;FMTTYPE=image/jpeg:https://heartknocksglobal.com/wp-content/uploads/2025/02/prg-timg-LP.jpg
END:VEVENT
END:VCALENDAR